BEGIN:VCALENDAR
VERSION:2.0
PRODID:-//eventon.com NONSGML v1.0//EN
CALSCALE:GREGORIAN
METHOD:PUBLISH
BEGIN:VEVENT
UID:69e618be12255
DTSTAMP:20260420T121454Z
DTSTART:20240809
DTEND:20240810
LOCATION:Kochi Sakaedacho\,  Kochi\,  780-0061
SUMMARY:Yosakoi Matsuri\,  Kochi
DESCRIPTION:Le Yosakoi qui signifie « Venez ce soir! » est un style de 
 danse unique né dans la ville de Kochi dans la région de Shikoku en 1954 
 et il s’agit d’une interprétation moderne d’Awa Odori. Très énergi
 que\,  combinant des mouvements de danse traditionnelle japonaise avec de l
 a musique moderne\,  le Yosakoi[..]\nhttps://guideaujapon.fr/matsuri-evenem
 ents-japon/yosakoi-matsuri-kochi
URL:https://guideaujapon.fr/matsuri-evenements-japon/yosakoi-matsuri-kochi
END:VEVENT
END:VCALENDAR