BEGIN:VCALENDAR
VERSION:2.0
PRODID:-//eventon.com NONSGML v1.0//EN
CALSCALE:GREGORIAN
METHOD:PUBLISH
BEGIN:VEVENT
UID:69e732e8806d6
DTSTAMP:20260421T081848Z
DTSTART:20240812T000000Z
DTEND:20240815T120000Z
LOCATION:Awaodori Kaikan
SUMMARY:Awa Odori\,  Tokushima
DESCRIPTION:Chaque année du 12 au 15 août\,  la ville de Tokushima sur l&
 rsquo;île du Shikoku\,  est la scène de l&rsquo;une des plus grosses fêt
 es du festival Awa Odori (danse des fous) honorant la tradition du O-Bon (f
 ête bouddhique des morts). Attirant plus d&rsquo;un 1million de visiteurs 
 chaque année\,  pendant 4[..]\nhttps://guideaujapon.fr/matsuri-evenements-
 japon/awa-odori-tokushima
URL:https://guideaujapon.fr/matsuri-evenements-japon/awa-odori-tokushima
END:VEVENT
END:VCALENDAR